BEGIN:VCALENDAR
VERSION:2.0
PRODID:-//wp-events-plugin.com//7.2.3.1//EN
TZID:Europe/Paris
X-WR-TIMEZONE:Europe/Paris
BEGIN:VEVENT
UID:214@nordicnam.be
DTSTART;TZID=Europe/Paris:20241222T091500
DTEND;TZID=Europe/Paris:20241222T113000
DTSTAMP:20241220T221141Z
URL:https://nordicnam.be/events/marche-nordique-a-godinne-3/
SUMMARY:Marche nordique à Godinne
DESCRIPTION:Parcours : Godinne vers Mont\, 10.3 km\, 350 D+\, allure modér
 ée à soutenue. Départ 9h30. Rdv à Godinne au parking rue de la Ferme.\
 nATTENTION : Si la météo devenait trop mauvaise\, la marche pourrait êt
 re annulée.\n
ATTACH;FMTTYPE=image/jpeg:https://nordicnam.be/wp-content/uploads/Godinne-
 rue-de-la-ferme-2.jpg
CATEGORIES:Marches
END:VEVENT
BEGIN:VTIMEZONE
TZID:Europe/Paris
X-LIC-LOCATION:Europe/Paris
BEGIN:STANDARD
DTSTART:20241027T020000
TZOFFSETFROM:+0200
TZOFFSETTO:+0100
TZNAME:CET
END:STANDARD
END:VTIMEZONE
END:VCALENDAR