BEGIN:VCALENDAR
VERSION:2.0
PRODID:-//wp-events-plugin.com//7.2.3.1//EN
TZID:Europe/Paris
X-WR-TIMEZONE:Europe/Paris
BEGIN:VEVENT
UID:198@nordicnam.be
DTSTART;TZID=Europe/Paris:20241103T091500
DTEND;TZID=Europe/Paris:20241103T101500
DTSTAMP:20241102T084646Z
URL:https://nordicnam.be/events/marche-nordique-a-assesse/
SUMMARY:Marche nordique à Assesse
DESCRIPTION:Parcours de 11.4 km\, dénivelé 160m\, allure modérée à sou
 tenue. Rdv à l'église\, Place Communale. Départ 9h30\n
ATTACH;FMTTYPE=image/jpeg:https://nordicnam.be/wp-content/uploads/Assesse.
 jpg
CATEGORIES:Marches
END:VEVENT
BEGIN:VTIMEZONE
TZID:Europe/Paris
X-LIC-LOCATION:Europe/Paris
BEGIN:STANDARD
DTSTART:20241027T020000
TZOFFSETFROM:+0200
TZOFFSETTO:+0100
TZNAME:CET
END:STANDARD
END:VTIMEZONE
END:VCALENDAR