BEGIN:VCALENDAR
VERSION:2.0
PRODID:-//wp-events-plugin.com//7.2.3.1//EN
TZID:Europe/Paris
X-WR-TIMEZONE:Europe/Paris
BEGIN:VEVENT
UID:390@nordicnam.be
DTSTART;TZID=Europe/Paris:20260503T134500
DTEND;TZID=Europe/Paris:20260503T144500
DTSTAMP:20260422T153824Z
URL:https://nordicnam.be/events/marche-encadree-5/
SUMMARY:Marche encadrée
DESCRIPTION:cette marche encadrée consiste en une remise à niveau techniq
 ue sur un parcours d'environ 5km comportant des exercices permettant d'ins
 ister sur certains points importants de la technique de la marche nordique
 . Cette activité est gratuite pour les membres et une participation de 10
  euros sera demandée aux autres participants
CATEGORIES:Marches
END:VEVENT
BEGIN:VTIMEZONE
TZID:Europe/Paris
X-LIC-LOCATION:Europe/Paris
BEGIN:DAYLIGHT
DTSTART:20260329T030000
TZOFFSETFROM:+0100
TZOFFSETTO:+0200
TZNAME:CEST
END:DAYLIGHT
END:VTIMEZONE
END:VCALENDAR