BEGIN:VCALENDAR
VERSION:2.0
PRODID:-//wp-events-plugin.com//7.2.3.1//EN
TZID:Europe/Paris
X-WR-TIMEZONE:Europe/Paris
BEGIN:VEVENT
UID:389@nordicnam.be
DTSTART;TZID=Europe/Paris:20260426T084500
DTEND;TZID=Europe/Paris:20260426T094500
DTSTAMP:20260422T153755Z
URL:https://nordicnam.be/events/marche-du-dimanche-6/
SUMMARY:Marche du dimanche
DESCRIPTION:Le groupe de marcheurs inscrits au CHU Walking Tour participera
  à la boucle de 20 km de la marche ADEPS.\nVous y êtes les bienvenus. L
 ´allure est modérée\, ( 5km/h sans les arrêts) il s´agit d´un exerci
 ce d´endurance sur 20km avec le dénivelé de la région 😉\nPrévoir s
 on pique-nique
CATEGORIES:Marches
END:VEVENT
BEGIN:VTIMEZONE
TZID:Europe/Paris
X-LIC-LOCATION:Europe/Paris
BEGIN:DAYLIGHT
DTSTART:20260329T030000
TZOFFSETFROM:+0100
TZOFFSETTO:+0200
TZNAME:CEST
END:DAYLIGHT
END:VTIMEZONE
END:VCALENDAR