BEGIN:VCALENDAR
VERSION:2.0
PRODID:-//wp-events-plugin.com//7.2.3.1//EN
TZID:Europe/Paris
X-WR-TIMEZONE:Europe/Paris
BEGIN:VEVENT
UID:122@nordicnam.be
DTSTART;TZID=Europe/Paris:20240307T094500
DTEND;TZID=Europe/Paris:20240307T104500
DTSTAMP:20240304T115058Z
URL:https://nordicnam.be/events/marche-douce-du-jeudi-matin-19/
SUMMARY:Marche douce du jeudi matin
DESCRIPTION:balade le long de la Meuse rive Gauche\nDépart du hall sportif
  de Beez jusqu’aux Dolomies Marches-les-Dames &amp\; retour\nParcours sa
 ns danger\, les pieds ne seront pas omniprésents\, mais risque de vent\n+
 /- 10 km 600\n
CATEGORIES:Marches
END:VEVENT
BEGIN:VTIMEZONE
TZID:Europe/Paris
X-LIC-LOCATION:Europe/Paris
BEGIN:STANDARD
DTSTART:20231029T020000
TZOFFSETFROM:+0200
TZOFFSETTO:+0100
TZNAME:CET
END:STANDARD
END:VTIMEZONE
END:VCALENDAR