BEGIN:VCALENDAR
VERSION:2.0
PRODID:-//wp-events-plugin.com//7.2.3.1//EN
TZID:Europe/Paris
X-WR-TIMEZONE:Europe/Paris
BEGIN:VEVENT
UID:199@nordicnam.be
DTSTART;TZID=Europe/Paris:20241107T093000
DTEND;TZID=Europe/Paris:20241107T100000
DTSTAMP:20241105T192000Z
URL:https://nordicnam.be/events/marche-douce-du-jeudi-31/
SUMMARY:Marche douce du jeudi
DESCRIPTION:8 kms au départ du terrain de foot de Naninne. La distance est
  plus courte que d'habitude car le dénivelé est plus important.\n
CATEGORIES:Marches
END:VEVENT
BEGIN:VTIMEZONE
TZID:Europe/Paris
X-LIC-LOCATION:Europe/Paris
BEGIN:STANDARD
DTSTART:20241027T020000
TZOFFSETFROM:+0200
TZOFFSETTO:+0100
TZNAME:CET
END:STANDARD
END:VTIMEZONE
END:VCALENDAR