BEGIN:VCALENDAR
VERSION:2.0
PRODID:-//wp-events-plugin.com//7.2.3.1//EN
TZID:Europe/Paris
X-WR-TIMEZONE:Europe/Paris
BEGIN:VEVENT
UID:385@nordicnam.be
DTSTART;TZID=Europe/Paris:20260419T091500
DTEND;TZID=Europe/Paris:20260419T103000
DTSTAMP:20260415T131321Z
URL:https://nordicnam.be/events/marche-douce-du-dimanche-matin-36/
SUMMARY:Marche douce du dimanche matin
DESCRIPTION:8 km et 240m de D+\, à allure modérée\nUne autre marche d'un
 e dizaine de km à allure soutenue sera guidée par Françoise De Saedelee
 r même lieu de départ\nLes marches seront suivies de l'apéro offert par
  le club\, un repas sandwichs et tartes. Et l'Assemblée Générale\, rés
 ervée aux membres\, se tiendra ensuite
CATEGORIES:Marches
END:VEVENT
BEGIN:VTIMEZONE
TZID:Europe/Paris
X-LIC-LOCATION:Europe/Paris
BEGIN:DAYLIGHT
DTSTART:20260329T030000
TZOFFSETFROM:+0100
TZOFFSETTO:+0200
TZNAME:CEST
END:DAYLIGHT
END:VTIMEZONE
END:VCALENDAR